BEGIN:VCALENDAR
VERSION:2.0
PRODID:-//hacksw/handcal//NONSGML v1.0//EN
BEGIN:VEVENT
SUMMARY:Rondes de France - Salle Mistral
UID:663fe333-65ad-4eae-8c5c-84f97854b32c
DTSTART:20260518T120000Z
DTEND:20260518T160000Z
LOCATION:Localisation   
CATEGORIES:Sportif
STATUS:
URL;VALUE=URI:https://vauvertbridge.club.ffbridge.fr/evenements/2026/05/18/rondes-de-france-salle-mistral-2443694
END:VEVENT
END:VCALENDAR
