BEGIN:VCALENDAR
VERSION:2.0
PRODID:-//hacksw/handcal//NONSGML v1.0//EN
BEGIN:VEVENT
SUMMARY:Club ferme
UID:df28a0cc-78b5-4052-bd71-d63479569d84
DTSTART:20260524T220000Z
DTEND:20260525T220000Z
LOCATION:Localisation   
CATEGORIES:Sportif
STATUS:
URL;VALUE=URI:https://vauvertbridge.club.ffbridge.fr/evenements/2026/05/25/club-ferme-2443695
END:VEVENT
END:VCALENDAR
